BEGIN:VCALENDAR
VERSION:2.0
PRODID:-//Tukios.com/
BEGIN:VEVENT
UID:a91c9277-ebde-4731-89c8-3c378d865f7f@www.parker-ashworthfuneralhome.com
DTSTAMP:20260421T182825Z
DTSTART:20260504T170000Z
DTEND:20260504T180000Z
SUMMARY:Inurnment
DESCRIPTION:
URL:https://www.parker-ashworthfuneralhome.com/obituaries/justin-wilson
LOCATION: Co Rd 154  Kaufman TX 75142
GEO:32.5307369;-96.2965079
END:VEVENT
END:VCALENDAR